BEGIN:VCALENDAR
VERSION:2.0
PRODID:-//Pickleball Visalia - ECPv6.15.20//NONSGML v1.0//EN
CALSCALE:GREGORIAN
METHOD:PUBLISH
X-ORIGINAL-URL:https://pbvis.org
X-WR-CALDESC:Events for Pickleball Visalia
REFRESH-INTERVAL;VALUE=DURATION:PT1H
X-Robots-Tag:noindex
X-PUBLISHED-TTL:PT1H
BEGIN:VTIMEZONE
TZID:America/Los_Angeles
BEGIN:DAYLIGHT
TZOFFSETFROM:-0800
TZOFFSETTO:-0700
TZNAME:PDT
DTSTART:20250309T100000
END:DAYLIGHT
BEGIN:STANDARD
TZOFFSETFROM:-0700
TZOFFSETTO:-0800
TZNAME:PST
DTSTART:20251102T090000
END:STANDARD
BEGIN:DAYLIGHT
TZOFFSETFROM:-0800
TZOFFSETTO:-0700
TZNAME:PDT
DTSTART:20260308T100000
END:DAYLIGHT
BEGIN:STANDARD
TZOFFSETFROM:-0700
TZOFFSETTO:-0800
TZNAME:PST
DTSTART:20261101T090000
END:STANDARD
BEGIN:DAYLIGHT
TZOFFSETFROM:-0800
TZOFFSETTO:-0700
TZNAME:PDT
DTSTART:20270314T100000
END:DAYLIGHT
BEGIN:STANDARD
TZOFFSETFROM:-0700
TZOFFSETTO:-0800
TZNAME:PST
DTSTART:20271107T090000
END:STANDARD
END:VTIMEZONE
BEGIN:VEVENT
DTSTART;TZID=America/Los_Angeles:20260514T183000
DTEND;TZID=America/Los_Angeles:20260514T200000
DTSTAMP:20260425T210410
CREATED:20260413T161339Z
LAST-MODIFIED:20260413T193643Z
UID:1836-1778783400-1778788800@pbvis.org
SUMMARY:Club Meeting - May 14th - 6:30pm
DESCRIPTION:Club Meeting\,\n Members are encouraged to attend and stay informed.\nMay 14th 2026\, 6:30 p.m.\nLet us know if you’re coming! Please enable JavaScript in your browser to complete this form.Please enable JavaScript in your browser to complete this form.		\n			that Check Apply\n			\n		\n		Participant NameName *FirstLastPhonePlease Check all that ApplyYES! I will attendYES! I am a Pickleball Visalia MemberSubmit  CLICK TO DOWNLOAD FLYERCLICK FOR MEMBERSHIP REGISTRATION 2026/2027
URL:https://pbvis.org/event/club-meeting-may-14th-630pm/
LOCATION:PLAZA PARK\, 9000 W Airport Dr.\, Visalia\, CA\, 93277\, United States
ATTACH;FMTTYPE=image/png:https://pbvis.org/wp-content/uploads/2026/04/Screenshot-2026-04-13-at-9.01.51-AM.png
END:VEVENT
END:VCALENDAR