BEGIN:VCALENDAR
VERSION:2.0
PRODID:-//Pickleball Visalia - ECPv6.15.20//NONSGML v1.0//EN
CALSCALE:GREGORIAN
METHOD:PUBLISH
X-WR-CALNAME:Pickleball Visalia
X-ORIGINAL-URL:https://pbvis.org
X-WR-CALDESC:Events for Pickleball Visalia
REFRESH-INTERVAL;VALUE=DURATION:PT1H
X-Robots-Tag:noindex
X-PUBLISHED-TTL:PT1H
BEGIN:VTIMEZONE
TZID:America/Los_Angeles
BEGIN:DAYLIGHT
TZOFFSETFROM:-0800
TZOFFSETTO:-0700
TZNAME:PDT
DTSTART:20240310T100000
END:DAYLIGHT
BEGIN:STANDARD
TZOFFSETFROM:-0700
TZOFFSETTO:-0800
TZNAME:PST
DTSTART:20241103T090000
END:STANDARD
BEGIN:DAYLIGHT
TZOFFSETFROM:-0800
TZOFFSETTO:-0700
TZNAME:PDT
DTSTART:20250309T100000
END:DAYLIGHT
BEGIN:STANDARD
TZOFFSETFROM:-0700
TZOFFSETTO:-0800
TZNAME:PST
DTSTART:20251102T090000
END:STANDARD
BEGIN:DAYLIGHT
TZOFFSETFROM:-0800
TZOFFSETTO:-0700
TZNAME:PDT
DTSTART:20260308T100000
END:DAYLIGHT
BEGIN:STANDARD
TZOFFSETFROM:-0700
TZOFFSETTO:-0800
TZNAME:PST
DTSTART:20261101T090000
END:STANDARD
END:VTIMEZONE
BEGIN:VEVENT
DTSTART;TZID=America/Los_Angeles:20250304T080000
DTEND;TZID=America/Los_Angeles:20250402T170000
DTSTAMP:20260425T205807
CREATED:20250218T230517Z
LAST-MODIFIED:20250218T231537Z
UID:1045-1741075200-1743613200@pbvis.org
SUMMARY:Visalia Pickleball Scramble
DESCRIPTION:The City of Visalia Picklebrawl scramble runs for 5 weeks from 3/4/25 – 4/2/25\n\n1–Tuesday morn level 3.0 intermediate 9-11am\n2–Tuesday night for 2.5 beginner 5:30-7:30pm\n3–Tuesday night 3.0 intermediate 7:30-9:30pm\n4–Wednesday night 3.5+ advanced intermediate and advanced 6:30-8:30pm
URL:https://pbvis.org/event/visalia-pickleball-scramble/
LOCATION:PLAZA PARK\, 9000 W Airport Dr.\, Visalia\, CA\, 93277\, United States
ATTACH;FMTTYPE=image/png:https://pbvis.org/wp-content/uploads/2025/02/Screen-Shot-2025-02-18-at-3.04.33-PM.png
ORGANIZER;CN="Brent Winn":MAILTO:info@pbvis.org
END:VEVENT
END:VCALENDAR